BEGIN:VCALENDAR
VERSION:2.0
PRODID:-//Institutul Naţional de Cercetare-Dezvoltare pentru Protecţia Mediului - ECPv4.9.8//NONSGML v1.0//EN
CALSCALE:GREGORIAN
METHOD:PUBLISH
X-WR-CALNAME:Institutul Naţional de Cercetare-Dezvoltare pentru Protecţia Mediului
X-ORIGINAL-URL:https://www.incdpm.ro
X-WR-CALDESC:Events for Institutul Naţional de Cercetare-Dezvoltare pentru Protecţia Mediului
BEGIN:VTIMEZONE
TZID:Europe/Bucharest
BEGIN:DAYLIGHT
TZOFFSETFROM:+0200
TZOFFSETTO:+0300
TZNAME:EEST
DTSTART:20140330T010000
END:DAYLIGHT
BEGIN:STANDARD
TZOFFSETFROM:+0300
TZOFFSETTO:+0200
TZNAME:EET
DTSTART:20141026T010000
END:STANDARD
END:VTIMEZONE
BEGIN:VEVENT
DTSTART;VALUE=DATE:20140117
DTEND;VALUE=DATE:20140119
DTSTAMP:20260422T160332
CREATED:20171014T123322Z
LAST-MODIFIED:20171014T123322Z
UID:530-1389916800-1390089599@www.incdpm.ro
SUMMARY:The water exploitation index (WEI)
DESCRIPTION:International Conference „New tools for sustainable management of aquatic living resources’’ AQUALIRES \nMincu Mariana\, Radu Monica Niculina \n
URL:https://www.incdpm.ro/event/water-exploitation-index-wei/
LOCATION:Bucharest\, Romania\, Bucharest\, Romania\, Romania
CATEGORIES:Conference
END:VEVENT
END:VCALENDAR