BEGIN:VCALENDAR
VERSION:2.0
PRODID:-//Institutul Naţional de Cercetare-Dezvoltare pentru Protecţia Mediului - ECPv4.9.8//NONSGML v1.0//EN
CALSCALE:GREGORIAN
METHOD:PUBLISH
X-WR-CALNAME:Institutul Naţional de Cercetare-Dezvoltare pentru Protecţia Mediului
X-ORIGINAL-URL:https://www.incdpm.ro
X-WR-CALDESC:Events for Institutul Naţional de Cercetare-Dezvoltare pentru Protecţia Mediului
BEGIN:VTIMEZONE
TZID:Europe/Bucharest
BEGIN:DAYLIGHT
TZOFFSETFROM:+0200
TZOFFSETTO:+0300
TZNAME:EEST
DTSTART:20130331T010000
END:DAYLIGHT
BEGIN:STANDARD
TZOFFSETFROM:+0300
TZOFFSETTO:+0200
TZNAME:EET
DTSTART:20131027T010000
END:STANDARD
END:VTIMEZONE
BEGIN:VEVENT
DTSTART;VALUE=DATE:20131225
DTEND;VALUE=DATE:20131227
DTSTAMP:20260422T180110
CREATED:20171014T115625Z
LAST-MODIFIED:20171014T115625Z
UID:509-1387929600-1388102399@www.incdpm.ro
SUMMARY:On the use of electrodynamic actuator for control of the dynamic absorbers
DESCRIPTION:The 3rd International Conference on Acoustics and Vibration (ISAV2013)\, K. N. Toosi University of Technology \nComeaga Constantin Daniel\, Mitiu Mihaela \n
URL:https://www.incdpm.ro/event/use-electrodynamic-actuator-control-dynamic-absorbers/
LOCATION:Teheran\, Iran\, Teheran\, Iran
CATEGORIES:Conference
END:VEVENT
END:VCALENDAR