BEGIN:VCALENDAR
VERSION:2.0
PRODID:-//Institutul Naţional de Cercetare-Dezvoltare pentru Protecţia Mediului - ECPv4.9.8//NONSGML v1.0//EN
CALSCALE:GREGORIAN
METHOD:PUBLISH
X-WR-CALNAME:Institutul Naţional de Cercetare-Dezvoltare pentru Protecţia Mediului
X-ORIGINAL-URL:https://www.incdpm.ro
X-WR-CALDESC:Events for Institutul Naţional de Cercetare-Dezvoltare pentru Protecţia Mediului
BEGIN:VTIMEZONE
TZID:Europe/Bucharest
BEGIN:DAYLIGHT
TZOFFSETFROM:+0200
TZOFFSETTO:+0300
TZNAME:EEST
DTSTART:20180325T010000
END:DAYLIGHT
BEGIN:STANDARD
TZOFFSETFROM:+0300
TZOFFSETTO:+0200
TZNAME:EET
DTSTART:20181028T010000
END:STANDARD
END:VTIMEZONE
BEGIN:VEVENT
DTSTART;TZID="Europe/Bucharest":20180402T080000
DTEND;TZID="Europe/Bucharest":20180402T170000
DTSTAMP:20260420T041026
CREATED:20190110T075455Z
LAST-MODIFIED:20190110T080252Z
UID:3011-1522656000-1522688400@www.incdpm.ro
SUMMARY:Training course AERMOD (Practical Air Dispersion Modeling Workshop)
DESCRIPTION:Organized by Trinity Consultants \nParticipants: Raischi Natalia Simona\, Mîțiu Mihaela Andreea\, Ștefan Daniela\, Zamfir Adrian-Ștefan\, Lumînăroiu Lucian Gheorghe\, Pană Eduard \n  \n \n
URL:https://www.incdpm.ro/event/training-course-aermod-practical-air-dispersion-modeling-workshop/
LOCATION:Milan\, Italy\, Milano\, Italia
END:VEVENT
END:VCALENDAR