BEGIN:VCALENDAR
VERSION:2.0
PRODID:-//Institutul Naţional de Cercetare-Dezvoltare pentru Protecţia Mediului - ECPv4.9.8//NONSGML v1.0//EN
CALSCALE:GREGORIAN
METHOD:PUBLISH
X-WR-CALNAME:Institutul Naţional de Cercetare-Dezvoltare pentru Protecţia Mediului
X-ORIGINAL-URL:https://www.incdpm.ro
X-WR-CALDESC:Events for Institutul Naţional de Cercetare-Dezvoltare pentru Protecţia Mediului
BEGIN:VTIMEZONE
TZID:Europe/Bucharest
BEGIN:DAYLIGHT
TZOFFSETFROM:+0200
TZOFFSETTO:+0300
TZNAME:EEST
DTSTART:20140330T010000
END:DAYLIGHT
BEGIN:STANDARD
TZOFFSETFROM:+0300
TZOFFSETTO:+0200
TZNAME:EET
DTSTART:20141026T010000
END:STANDARD
END:VTIMEZONE
BEGIN:VEVENT
DTSTART;VALUE=DATE:20140918
DTEND;VALUE=DATE:20140920
DTSTAMP:20260422T125525
CREATED:20180828T065227Z
LAST-MODIFIED:20180828T065227Z
UID:2283-1410998400-1411171199@www.incdpm.ro
SUMMARY:The establishment of recovery technologies for hazardous industrial waste in construction materials
DESCRIPTION:International Conference „Environmental Legislation\, Safety Engineering and Disaster Management” ELSEDIMA 10th edition \nLarisa BODEA\, Alina TRENTEA\, Mihaela MIŢIU \n
URL:https://www.incdpm.ro/event/the-establishment-of-recovery-technologies-for-hazardous-industrial-waste-in-construction-materials/
LOCATION:Cluj-Napoca\, Romania\, Cluj-Napoca\, Romania\, Romania
CATEGORIES:Conference
END:VEVENT
END:VCALENDAR