BEGIN:VCALENDAR
VERSION:2.0
PRODID:-//Institutul Naţional de Cercetare-Dezvoltare pentru Protecţia Mediului - ECPv4.9.8//NONSGML v1.0//EN
CALSCALE:GREGORIAN
METHOD:PUBLISH
X-WR-CALNAME:Institutul Naţional de Cercetare-Dezvoltare pentru Protecţia Mediului
X-ORIGINAL-URL:https://www.incdpm.ro
X-WR-CALDESC:Events for Institutul Naţional de Cercetare-Dezvoltare pentru Protecţia Mediului
BEGIN:VTIMEZONE
TZID:Europe/Bucharest
BEGIN:DAYLIGHT
TZOFFSETFROM:+0200
TZOFFSETTO:+0300
TZNAME:EEST
DTSTART:20140330T010000
END:DAYLIGHT
BEGIN:STANDARD
TZOFFSETFROM:+0300
TZOFFSETTO:+0200
TZNAME:EET
DTSTART:20141026T010000
END:STANDARD
END:VTIMEZONE
BEGIN:VEVENT
DTSTART;VALUE=DATE:20140117
DTEND;VALUE=DATE:20140119
DTSTAMP:20260422T161043
CREATED:20180828T065957Z
LAST-MODIFIED:20180828T065957Z
UID:2298-1389916800-1390089599@www.incdpm.ro
SUMMARY:Spatio-temporal trends of potentially toxic metals in surface sediments of the Lower Danube River
DESCRIPTION:International Conference New tools for sustainable management of aquatic living resources – AQUALIRES 2014 \nI. Popescu\, G. Dorobantu\, Gy. Deak\, M.\, Radu\, P. Ionescu \n
URL:https://www.incdpm.ro/event/spatio-temporal-trends-of-potentially-toxic-metals-in-surface-sediments-of-the-lower-danube-river/
LOCATION:Bucharest\, Romania\, Bucharest\, Romania\, Romania
CATEGORIES:Conference
END:VEVENT
END:VCALENDAR