BEGIN:VCALENDAR
VERSION:2.0
PRODID:-//Institutul Naţional de Cercetare-Dezvoltare pentru Protecţia Mediului - ECPv4.9.8//NONSGML v1.0//EN
CALSCALE:GREGORIAN
METHOD:PUBLISH
X-WR-CALNAME:Institutul Naţional de Cercetare-Dezvoltare pentru Protecţia Mediului
X-ORIGINAL-URL:https://www.incdpm.ro
X-WR-CALDESC:Events for Institutul Naţional de Cercetare-Dezvoltare pentru Protecţia Mediului
BEGIN:VTIMEZONE
TZID:Europe/Bucharest
BEGIN:DAYLIGHT
TZOFFSETFROM:+0200
TZOFFSETTO:+0300
TZNAME:EEST
DTSTART:20170326T010000
END:DAYLIGHT
BEGIN:STANDARD
TZOFFSETFROM:+0300
TZOFFSETTO:+0200
TZNAME:EET
DTSTART:20171029T010000
END:STANDARD
END:VTIMEZONE
BEGIN:VEVENT
DTSTART;VALUE=DATE:20170602
DTEND;VALUE=DATE:20170604
DTSTAMP:20260420T055146
CREATED:20180828T063344Z
LAST-MODIFIED:20180828T063344Z
UID:2261-1496361600-1496534399@www.incdpm.ro
SUMMARY:Scientific Conference of Doctoral Schools from  “Dunărea de Jos”  University of Galati (CSSD-UDJC)\, 4th Edition
DESCRIPTION:„Selective extraction of metal compounds from electroplating sludge”: Mărcuş M.-I.\, Vlad M.\, Radu T.\, Balint L.\, Constantinesu S \nScientific Conference of Doctoral Schools from “Dunărea de Jos” University of Galati (CSSD-UDJC)\, 3th Edition\, 4-5 June 2015„Selective recovery by solubilization of metals ions of chromium\, iron and zinc from electroplating sludge to develop pigments for ceramics industry”: Mărcuș M.-I.\, Vlad M.\, Mîțiu I.\, Mîțiu M.A. \nA XXXIII-a Conferință Națională de Chimie\, 1-3 Octombrie 2014\, Căciulata\, România.„Assessment of nutrient concentrations in different lakes from Bucharest area”: Ionescu P.\, Radu V.-M. – poster„The heavy metals content in the sediment from the Danube River”: Radu V.-M.\, Ionescu P. – prezentare poster \nA XXXII – A Conferinţă Națională de Chimie\, 3-5 octombrie\, 2012\, Călimăneşti-Căciulata\, România.„Variaţiile spaţio-temporale ale poluării cu azot şi fosfor la nivelul fluviului Dunărea”: Radu V.-M.\, Ionescu P. – poster \n
URL:https://www.incdpm.ro/event/scientific-conference-of-doctoral-schools-from-dunarea-de-jos-university-of-galati-cssd-udjc-4th-edition/
LOCATION:Galati\, Romania\, Galati\, Romania
CATEGORIES:Conference
END:VEVENT
END:VCALENDAR