BEGIN:VCALENDAR
VERSION:2.0
PRODID:-//Institutul Naţional de Cercetare-Dezvoltare pentru Protecţia Mediului - ECPv4.9.8//NONSGML v1.0//EN
CALSCALE:GREGORIAN
METHOD:PUBLISH
X-WR-CALNAME:Institutul Naţional de Cercetare-Dezvoltare pentru Protecţia Mediului
X-ORIGINAL-URL:https://www.incdpm.ro
X-WR-CALDESC:Events for Institutul Naţional de Cercetare-Dezvoltare pentru Protecţia Mediului
BEGIN:VTIMEZONE
TZID:Europe/Bucharest
BEGIN:DAYLIGHT
TZOFFSETFROM:+0200
TZOFFSETTO:+0300
TZNAME:EEST
DTSTART:20170326T010000
END:DAYLIGHT
BEGIN:STANDARD
TZOFFSETFROM:+0300
TZOFFSETTO:+0200
TZNAME:EET
DTSTART:20171029T010000
END:STANDARD
END:VTIMEZONE
BEGIN:VEVENT
DTSTART;VALUE=DATE:20170525
DTEND;VALUE=DATE:20170528
DTSTAMP:20260420T072848
CREATED:20180828T063500Z
LAST-MODIFIED:20180828T063500Z
UID:2264-1495670400-1495929599@www.incdpm.ro
SUMMARY:Modelling and simulation of wastewater treatment processes in the sewage system
DESCRIPTION:INTERNATIONAL U.A.B. – B.EN.A. CONFERENCE ENVIRONMENTAL ENGINEERING AND SUSTAINABLE DEVELOPMENT \nG. Ghita\, M. Ilie\, C. Tociu\, F. Marinescu\, A.-M. Anghel\, E. Holban\, M. Mincu\, Gy. Deák \n
URL:https://www.incdpm.ro/event/modelling-and-simulation-of-wastewater-treatment-processes-in-the-sewage-system/
LOCATION:Alba Iulia\, Romania\, Alba Iulia\, Romania\, Romania
CATEGORIES:Conference
END:VEVENT
END:VCALENDAR