BEGIN:VCALENDAR
VERSION:2.0
PRODID:-//Institutul Naţional de Cercetare-Dezvoltare pentru Protecţia Mediului - ECPv4.9.8//NONSGML v1.0//EN
CALSCALE:GREGORIAN
METHOD:PUBLISH
X-WR-CALNAME:Institutul Naţional de Cercetare-Dezvoltare pentru Protecţia Mediului
X-ORIGINAL-URL:https://www.incdpm.ro
X-WR-CALDESC:Events for Institutul Naţional de Cercetare-Dezvoltare pentru Protecţia Mediului
BEGIN:VTIMEZONE
TZID:Europe/Bucharest
BEGIN:DAYLIGHT
TZOFFSETFROM:+0200
TZOFFSETTO:+0300
TZNAME:EEST
DTSTART:20160327T010000
END:DAYLIGHT
BEGIN:STANDARD
TZOFFSETFROM:+0300
TZOFFSETTO:+0200
TZNAME:EET
DTSTART:20161030T010000
END:STANDARD
END:VTIMEZONE
BEGIN:VEVENT
DTSTART;VALUE=DATE:20160619
DTEND;VALUE=DATE:20160622
DTSTAMP:20260422T085023
CREATED:20180828T063628Z
LAST-MODIFIED:20180828T063628Z
UID:2267-1466294400-1466553599@www.incdpm.ro
SUMMARY:INTERNATIONAL CONFERENCE ON MATERIAL SCIENCE & ENGINEERING\, 7th edition
DESCRIPTION:Influence of different galvanic sludge types on the extraction efficiency of chromium ions\, Mărcuș M.-I.\, Vlad M.\, Mîțiu M. A. \n
URL:https://www.incdpm.ro/event/international-conference-on-material-science-engineering-7th-edition/
LOCATION:UgalMat\, Universitatea „Dunărea de Jos” Galați\, Galați\, Romania
CATEGORIES:Conference
END:VEVENT
END:VCALENDAR