BEGIN:VCALENDAR
VERSION:2.0
PRODID:-//Institutul Naţional de Cercetare-Dezvoltare pentru Protecţia Mediului - ECPv4.9.8//NONSGML v1.0//EN
CALSCALE:GREGORIAN
METHOD:PUBLISH
X-WR-CALNAME:Institutul Naţional de Cercetare-Dezvoltare pentru Protecţia Mediului
X-ORIGINAL-URL:https://www.incdpm.ro
X-WR-CALDESC:Events for Institutul Naţional de Cercetare-Dezvoltare pentru Protecţia Mediului
BEGIN:VTIMEZONE
TZID:Europe/Bucharest
BEGIN:DAYLIGHT
TZOFFSETFROM:+0200
TZOFFSETTO:+0300
TZNAME:EEST
DTSTART:20130331T010000
END:DAYLIGHT
BEGIN:STANDARD
TZOFFSETFROM:+0300
TZOFFSETTO:+0200
TZNAME:EET
DTSTART:20131027T010000
END:STANDARD
END:VTIMEZONE
BEGIN:VEVENT
DTSTART;VALUE=DATE:20130917
DTEND;VALUE=DATE:20130921
DTSTAMP:20260422T192256
CREATED:20180828T065614Z
LAST-MODIFIED:20180828T065614Z
UID:2294-1379376000-1379721599@www.incdpm.ro
SUMMARY:International Conference Marine Research HORIZON 2020 - MARES 2020
DESCRIPTION:„Parametrical intercorrelations algorithms between water quality indicators in the Danube river”: Radu V.-M.\, Ionescu P.\, Gy. Deák\, Popescu I.\, Varduca A.\, Diacu E. – poster\n„Lead distribution at aqueous – solid phase interfaces in aquatic environment”: Ionescu P.\, Radu V.-M.\, Gy. Deak\, Varduca A.\, Popescu I.\, Diacu E. – poster \n
URL:https://www.incdpm.ro/event/international-conference-marine-research-horizon-2020-mares-2020/
LOCATION:Varna\, Bulgaria\, Varna\, Bulgaria
CATEGORIES:Conference
END:VEVENT
END:VCALENDAR