BEGIN:VCALENDAR
VERSION:2.0
PRODID:-//Institutul Naţional de Cercetare-Dezvoltare pentru Protecţia Mediului - ECPv4.9.8//NONSGML v1.0//EN
CALSCALE:GREGORIAN
METHOD:PUBLISH
X-WR-CALNAME:Institutul Naţional de Cercetare-Dezvoltare pentru Protecţia Mediului
X-ORIGINAL-URL:https://www.incdpm.ro
X-WR-CALDESC:Events for Institutul Naţional de Cercetare-Dezvoltare pentru Protecţia Mediului
BEGIN:VTIMEZONE
TZID:Europe/Bucharest
BEGIN:DAYLIGHT
TZOFFSETFROM:+0200
TZOFFSETTO:+0300
TZNAME:EEST
DTSTART:20130331T010000
END:DAYLIGHT
BEGIN:STANDARD
TZOFFSETFROM:+0300
TZOFFSETTO:+0200
TZNAME:EET
DTSTART:20131027T010000
END:STANDARD
END:VTIMEZONE
BEGIN:VEVENT
DTSTART;VALUE=DATE:20130620
DTEND;VALUE=DATE:20130624
DTSTAMP:20260422T210618
CREATED:20171014T111515Z
LAST-MODIFIED:20171014T111515Z
UID:498-1371686400-1372031999@www.incdpm.ro
SUMMARY:The impact of land use changes in urban planning
DESCRIPTION:1st International U.O.C. – B.E.N.A. Conference – The sustainability of pharmaceutical\, medical and ecological education and research (SPHAMEER) \nG. Dorobanțu\, Gy. Deak\, I. Popescu \n
URL:https://www.incdpm.ro/event/impact-land-use-changes-urban-planning/
LOCATION:Constanta\, Romania\, Constanta\, Romania
CATEGORIES:Conference
END:VEVENT
END:VCALENDAR