BEGIN:VCALENDAR
VERSION:2.0
PRODID:-//Institutul Naţional de Cercetare-Dezvoltare pentru Protecţia Mediului - ECPv4.9.8//NONSGML v1.0//EN
CALSCALE:GREGORIAN
METHOD:PUBLISH
X-WR-CALNAME:Institutul Naţional de Cercetare-Dezvoltare pentru Protecţia Mediului
X-ORIGINAL-URL:https://www.incdpm.ro
X-WR-CALDESC:Events for Institutul Naţional de Cercetare-Dezvoltare pentru Protecţia Mediului
BEGIN:VTIMEZONE
TZID:Europe/Bucharest
BEGIN:DAYLIGHT
TZOFFSETFROM:+0200
TZOFFSETTO:+0300
TZNAME:EEST
DTSTART:20180325T010000
END:DAYLIGHT
BEGIN:STANDARD
TZOFFSETFROM:+0300
TZOFFSETTO:+0200
TZNAME:EET
DTSTART:20181028T010000
END:STANDARD
END:VTIMEZONE
BEGIN:VEVENT
DTSTART;TZID="Europe/Bucharest":20180920T080000
DTEND;TZID="Europe/Bucharest":20180921T170000
DTSTAMP:20260420T005107
CREATED:20190110T071551Z
LAST-MODIFIED:20190110T071551Z
UID:3008-1537430400-1537549200@www.incdpm.ro
SUMMARY:Identifying and describing the main climatic and stress factors that are affecting forest and viticultural ecosystems
DESCRIPTION:INTERNATIONAL SYMPOSIUM “THE ENVIRONMENT AND THE INDUSTRY”\,  SIMI 2018 \nDiana Elena Vizitiu\, Lucian Dinca\, Viorica Enache\, Alina Donici\, Lucretia Popa\, Danut Cociorva\, Gabriel Murariu  \n
URL:https://www.incdpm.ro/event/identifying-and-describing-the-main-climatic-and-stress-factors-that-are-affecting-forest-and-viticultural-ecosystems/
LOCATION:Bucharest\, Romania\, Bucharest\, Romania\, Romania
END:VEVENT
END:VCALENDAR