BEGIN:VCALENDAR
VERSION:2.0
PRODID:-//Institutul Naţional de Cercetare-Dezvoltare pentru Protecţia Mediului - ECPv4.9.8//NONSGML v1.0//EN
CALSCALE:GREGORIAN
METHOD:PUBLISH
X-WR-CALNAME:Institutul Naţional de Cercetare-Dezvoltare pentru Protecţia Mediului
X-ORIGINAL-URL:https://www.incdpm.ro
X-WR-CALDESC:Events for Institutul Naţional de Cercetare-Dezvoltare pentru Protecţia Mediului
BEGIN:VTIMEZONE
TZID:Europe/Bucharest
BEGIN:DAYLIGHT
TZOFFSETFROM:+0200
TZOFFSETTO:+0300
TZNAME:EEST
DTSTART:20120325T010000
END:DAYLIGHT
BEGIN:STANDARD
TZOFFSETFROM:+0300
TZOFFSETTO:+0200
TZNAME:EET
DTSTART:20121028T010000
END:STANDARD
END:VTIMEZONE
BEGIN:VEVENT
DTSTART;VALUE=DATE:20121025
DTEND;VALUE=DATE:20121028
DTSTAMP:20260422T211430
CREATED:20171013T093456Z
LAST-MODIFIED:20171013T093456Z
UID:470-1351123200-1351382399@www.incdpm.ro
SUMMARY:ELSEDIMA - Environmental Legislation\, Safety Engineering and Disaster Management\, 9th Edition
DESCRIPTION:„Estimation of measurement uncertainty in determining the concentration of total phosphorus in waste water sample”: Ionescu P.\, Radu V.-M.- poster \n
URL:https://www.incdpm.ro/event/elsedima-environmental-legislation-safety-engineering-disaster-management-9th-edition/
LOCATION:Cluj-Napoca\, Romania\, Cluj-Napoca\, Romania\, Romania
CATEGORIES:Conference
END:VEVENT
END:VCALENDAR