BEGIN:VCALENDAR
VERSION:2.0
PRODID:-//Institutul Naţional de Cercetare-Dezvoltare pentru Protecţia Mediului - ECPv4.9.8//NONSGML v1.0//EN
CALSCALE:GREGORIAN
METHOD:PUBLISH
X-WR-CALNAME:Institutul Naţional de Cercetare-Dezvoltare pentru Protecţia Mediului
X-ORIGINAL-URL:https://www.incdpm.ro
X-WR-CALDESC:Events for Institutul Naţional de Cercetare-Dezvoltare pentru Protecţia Mediului
BEGIN:VTIMEZONE
TZID:Europe/Bucharest
BEGIN:DAYLIGHT
TZOFFSETFROM:+0200
TZOFFSETTO:+0300
TZNAME:EEST
DTSTART:20140330T010000
END:DAYLIGHT
BEGIN:STANDARD
TZOFFSETFROM:+0300
TZOFFSETTO:+0200
TZNAME:EET
DTSTART:20141026T010000
END:STANDARD
END:VTIMEZONE
BEGIN:VEVENT
DTSTART;VALUE=DATE:20140918
DTEND;VALUE=DATE:20140920
DTSTAMP:20260422T144846
CREATED:20170718T065542Z
LAST-MODIFIED:20170718T065542Z
UID:422-1410998400-1411171199@www.incdpm.ro
SUMMARY:ELSEDIMA - Environmental Legislation\, Safety Engineering and Disaster Management\, 10th edition
DESCRIPTION:„Trajectory of inorganic contaminants in river systems in the mining areas of northwestern Romania”: Anghel A.-M.\, Diacu E. – poster \n„The establishment of recovery technologies for hazardous industrial waste in construction materials”: Bodea L.\, Trentea A.\, Mîţiu M. – poster \n„Study on the detection of estrogens from aquatic environments by GC-ECD method”: Ionescu P.\, Diacu E.\, Radu V.-M.\, Gy. Deák\, Ivanov A. A.\, Marcu E. – poster \n„A multiparametric quality index for the ongoing water quality monitoring projects on the lower Danube”: Radu V.-M.\, Ivanov A. A.\, Ionescu P.\, Gy. Deák\, Diacu E. – poster \n
URL:https://www.incdpm.ro/event/elsedima-environmental-legislation-safety-engineering-disaster-management-10th-edition/
LOCATION:Cluj-Napoca\, Romania\, Cluj-Napoca\, Romania\, Romania
CATEGORIES:Conference
END:VEVENT
END:VCALENDAR