BEGIN:VCALENDAR
VERSION:2.0
PRODID:-//Institutul Naţional de Cercetare-Dezvoltare pentru Protecţia Mediului - ECPv4.9.8//NONSGML v1.0//EN
CALSCALE:GREGORIAN
METHOD:PUBLISH
X-WR-CALNAME:Institutul Naţional de Cercetare-Dezvoltare pentru Protecţia Mediului
X-ORIGINAL-URL:https://www.incdpm.ro
X-WR-CALDESC:Events for Institutul Naţional de Cercetare-Dezvoltare pentru Protecţia Mediului
BEGIN:VTIMEZONE
TZID:Europe/Bucharest
BEGIN:DAYLIGHT
TZOFFSETFROM:+0200
TZOFFSETTO:+0300
TZNAME:EEST
DTSTART:20130331T010000
END:DAYLIGHT
BEGIN:STANDARD
TZOFFSETFROM:+0300
TZOFFSETTO:+0200
TZNAME:EET
DTSTART:20131027T010000
END:STANDARD
END:VTIMEZONE
BEGIN:VEVENT
DTSTART;VALUE=DATE:20130917
DTEND;VALUE=DATE:20130921
DTSTAMP:20260422T192256
CREATED:20180828T065504Z
LAST-MODIFIED:20180828T065504Z
UID:2293-1379376000-1379721599@www.incdpm.ro
SUMMARY:Ecological risk assessment of nutrients discharges from Danube River to Black Sea
DESCRIPTION:Proceedings of the International conference “Marine Research Horizon 2020” (MARES) \nI. Popescu\, Gy. Deak\, G. Dorobanțu\, G. Tănase \n
URL:https://www.incdpm.ro/event/ecological-risk-assessment-of-nutrients-discharges-from-danube-river-to-black-sea/
LOCATION:Bulgaria\, Golden Sands Resort\, Bulgaria\, Golden Sands Resort
CATEGORIES:Conference
END:VEVENT
END:VCALENDAR