BEGIN:VCALENDAR
VERSION:2.0
PRODID:-//Institutul Naţional de Cercetare-Dezvoltare pentru Protecţia Mediului - ECPv4.9.8//NONSGML v1.0//EN
CALSCALE:GREGORIAN
METHOD:PUBLISH
X-WR-CALNAME:Institutul Naţional de Cercetare-Dezvoltare pentru Protecţia Mediului
X-ORIGINAL-URL:https://www.incdpm.ro
X-WR-CALDESC:Events for Institutul Naţional de Cercetare-Dezvoltare pentru Protecţia Mediului
BEGIN:VTIMEZONE
TZID:Europe/Bucharest
BEGIN:DAYLIGHT
TZOFFSETFROM:+0200
TZOFFSETTO:+0300
TZNAME:EEST
DTSTART:20140330T010000
END:DAYLIGHT
BEGIN:STANDARD
TZOFFSETFROM:+0300
TZOFFSETTO:+0200
TZNAME:EET
DTSTART:20141026T010000
END:STANDARD
END:VTIMEZONE
BEGIN:VEVENT
DTSTART;VALUE=DATE:20140505
DTEND;VALUE=DATE:20140509
DTSTAMP:20260422T160533
CREATED:20180828T065345Z
LAST-MODIFIED:20180828T065345Z
UID:2287-1399248000-1399593599@www.incdpm.ro
SUMMARY:Danube sturgeons’ migration monitoring. Case study: Bâstroe channel
DESCRIPTION:International Conference Green infrastructure and sustainable societies/cities \nGy. Deak\, I. Popescu\, M. Olteanu\, M. Raischi\, G. Tănase \n
URL:https://www.incdpm.ro/event/danube-sturgeons-migration-monitoring-case-study-bastroe-channel/
LOCATION:Izmir\, Turcia\, Izmir\, Turkey\, Turkey
CATEGORIES:Conference
END:VEVENT
END:VCALENDAR