BEGIN:VCALENDAR
VERSION:2.0
PRODID:-//Institutul Naţional de Cercetare-Dezvoltare pentru Protecţia Mediului - ECPv4.9.8//NONSGML v1.0//EN
CALSCALE:GREGORIAN
METHOD:PUBLISH
X-WR-CALNAME:Institutul Naţional de Cercetare-Dezvoltare pentru Protecţia Mediului
X-ORIGINAL-URL:https://www.incdpm.ro
X-WR-CALDESC:Events for Institutul Naţional de Cercetare-Dezvoltare pentru Protecţia Mediului
BEGIN:VTIMEZONE
TZID:Europe/Bucharest
BEGIN:DAYLIGHT
TZOFFSETFROM:+0200
TZOFFSETTO:+0300
TZNAME:EEST
DTSTART:20150329T010000
END:DAYLIGHT
BEGIN:STANDARD
TZOFFSETFROM:+0300
TZOFFSETTO:+0200
TZNAME:EET
DTSTART:20151025T010000
END:STANDARD
END:VTIMEZONE
BEGIN:VEVENT
DTSTART;VALUE=DATE:20151001
DTEND;VALUE=DATE:20151004
DTSTAMP:20260420T112230
CREATED:20180828T063815Z
LAST-MODIFIED:20180828T063815Z
UID:2271-1443657600-1443916799@www.incdpm.ro
SUMMARY:Chromium salts recovery and valorisation techniques from industrial sludge with complex chemical composition
DESCRIPTION:ECOLOGY and PROTECTION of MARINE and FRESHWATER ENVIRONMENTS \nMĂRCUȘ Maria-Iulianaa\, VLAD Maria\, MÎȚIU Ileana\, MÎȚIU Mihaela Andreea\, TOBĂ Francisc \n
URL:https://www.incdpm.ro/event/chromium-salts-recovery-and-valorisation-techniques-from-industrial-sludge-with-complex-chemical-composition/
LOCATION:Viterbo\, Italy\, Viterbo\, Italy\, Italy
CATEGORIES:Conference
END:VEVENT
END:VCALENDAR