BEGIN:VCALENDAR
VERSION:2.0
PRODID:-//Institutul Naţional de Cercetare-Dezvoltare pentru Protecţia Mediului - ECPv4.9.8//NONSGML v1.0//EN
CALSCALE:GREGORIAN
METHOD:PUBLISH
X-WR-CALNAME:Institutul Naţional de Cercetare-Dezvoltare pentru Protecţia Mediului
X-ORIGINAL-URL:https://www.incdpm.ro
X-WR-CALDESC:Events for Institutul Naţional de Cercetare-Dezvoltare pentru Protecţia Mediului
BEGIN:VTIMEZONE
TZID:Europe/Bucharest
BEGIN:DAYLIGHT
TZOFFSETFROM:+0200
TZOFFSETTO:+0300
TZNAME:EEST
DTSTART:20180325T010000
END:DAYLIGHT
BEGIN:STANDARD
TZOFFSETFROM:+0300
TZOFFSETTO:+0200
TZNAME:EET
DTSTART:20181028T010000
END:STANDARD
END:VTIMEZONE
BEGIN:VEVENT
DTSTART;TZID="Europe/Bucharest":20181011T080000
DTEND;TZID="Europe/Bucharest":20181013T170000
DTSTAMP:20260420T010003
CREATED:20190110T064053Z
LAST-MODIFIED:20190110T064053Z
UID:2998-1539244800-1539450000@www.incdpm.ro
SUMMARY:Chemical and structural characterization of chromium-based pigments extracted from hazardous sludge
DESCRIPTION:The 12th European Symposium on Thermal Analysis and Calorimetry\, ESTAC12 \nMaria-Iuliana Marcus\, Mihaela-Andreea Moncea\, Maria Vlad\, Ana-Maria Panait\, Mihaela Mitiu\, György Deák \n
URL:https://www.incdpm.ro/event/chemical-and-structural-characterization-of-chromium-based-pigments-extracted-from-hazardous-sludge/
LOCATION:Galati\, Romania\, Galati\, Romania
END:VEVENT
END:VCALENDAR