BEGIN:VCALENDAR
VERSION:2.0
PRODID:-//Institutul Naţional de Cercetare-Dezvoltare pentru Protecţia Mediului - ECPv4.9.8//NONSGML v1.0//EN
CALSCALE:GREGORIAN
METHOD:PUBLISH
X-WR-CALNAME:Institutul Naţional de Cercetare-Dezvoltare pentru Protecţia Mediului
X-ORIGINAL-URL:https://www.incdpm.ro
X-WR-CALDESC:Events for Institutul Naţional de Cercetare-Dezvoltare pentru Protecţia Mediului
BEGIN:VTIMEZONE
TZID:Europe/Bucharest
BEGIN:DAYLIGHT
TZOFFSETFROM:+0200
TZOFFSETTO:+0300
TZNAME:EEST
DTSTART:20120325T010000
END:DAYLIGHT
BEGIN:STANDARD
TZOFFSETFROM:+0300
TZOFFSETTO:+0200
TZNAME:EET
DTSTART:20121028T010000
END:STANDARD
END:VTIMEZONE
BEGIN:VEVENT
DTSTART;VALUE=DATE:20120918
DTEND;VALUE=DATE:20120920
DTSTAMP:20260422T210950
CREATED:20171014T105210Z
LAST-MODIFIED:20171014T105210Z
UID:492-1347926400-1348099199@www.incdpm.ro
SUMMARY:Biodisponibilità di metalli pesanti in suoli contaminati da attività minerarie e metallurgiche
DESCRIPTION:Convegno Nazionale della Società Italiana di Chimica Agraria \nI. Popescu\, M. Biasioli\, R. Stanescu\, F. Ajmone-Marsan \n
URL:https://www.incdpm.ro/event/biodisponibilita-di-metalli-pesanti-suoli-contaminati-da-attivita-minerarie-e-metallurgiche/
LOCATION:Milan\, Italy\, Milano\, Italia
CATEGORIES:Conference
END:VEVENT
END:VCALENDAR