BEGIN:VCALENDAR
VERSION:2.0
PRODID:-//Institutul Naţional de Cercetare-Dezvoltare pentru Protecţia Mediului - ECPv4.9.8//NONSGML v1.0//EN
CALSCALE:GREGORIAN
METHOD:PUBLISH
X-WR-CALNAME:Institutul Naţional de Cercetare-Dezvoltare pentru Protecţia Mediului
X-ORIGINAL-URL:https://www.incdpm.ro
X-WR-CALDESC:Events for Institutul Naţional de Cercetare-Dezvoltare pentru Protecţia Mediului
BEGIN:VTIMEZONE
TZID:Europe/Bucharest
BEGIN:DAYLIGHT
TZOFFSETFROM:+0200
TZOFFSETTO:+0300
TZNAME:EEST
DTSTART:20120325T010000
END:DAYLIGHT
BEGIN:STANDARD
TZOFFSETFROM:+0300
TZOFFSETTO:+0200
TZNAME:EET
DTSTART:20121028T010000
END:STANDARD
END:VTIMEZONE
BEGIN:VEVENT
DTSTART;VALUE=DATE:20121007
DTEND;VALUE=DATE:20121011
DTSTAMP:20260422T205204
CREATED:20180828T071052Z
LAST-MODIFIED:20180828T071052Z
UID:2310-1349568000-1349913599@www.incdpm.ro
SUMMARY:Bioaccessibility of metals in flooded soils assessed by in vitro simple bioavailability extraction test
DESCRIPTION:7th European Conference on Pesticides and Related Organic Micropollutants in the Environment \nR. Nimirciag (Balint)\, I. Popescu\, F. Ajmone-Marsan \n
URL:https://www.incdpm.ro/event/bioaccessibility-of-metals-in-flooded-soils-assessed-by-in-vitro-simple-bioavailability-extraction-test/
LOCATION:Porto\, Portugal\, Porto\, Portugal
CATEGORIES:Conference
END:VEVENT
END:VCALENDAR