BEGIN:VCALENDAR
VERSION:2.0
PRODID:-//Institutul Naţional de Cercetare-Dezvoltare pentru Protecţia Mediului - ECPv4.9.8//NONSGML v1.0//EN
CALSCALE:GREGORIAN
METHOD:PUBLISH
X-WR-CALNAME:Institutul Naţional de Cercetare-Dezvoltare pentru Protecţia Mediului
X-ORIGINAL-URL:https://www.incdpm.ro
X-WR-CALDESC:Events for Institutul Naţional de Cercetare-Dezvoltare pentru Protecţia Mediului
BEGIN:VTIMEZONE
TZID:Europe/Bucharest
BEGIN:DAYLIGHT
TZOFFSETFROM:+0200
TZOFFSETTO:+0300
TZNAME:EEST
DTSTART:20150329T010000
END:DAYLIGHT
BEGIN:STANDARD
TZOFFSETFROM:+0300
TZOFFSETTO:+0200
TZNAME:EET
DTSTART:20151025T010000
END:STANDARD
END:VTIMEZONE
BEGIN:VEVENT
DTSTART;VALUE=DATE:20150528
DTEND;VALUE=DATE:20150531
DTSTAMP:20260422T125540
CREATED:20180828T064526Z
LAST-MODIFIED:20180828T064526Z
UID:2278-1432771200-1433030399@www.incdpm.ro
SUMMARY:B.EN.A. - „Environmental engineering and sustainable development”
DESCRIPTION:„Statistical analysis of metals concentration in water and sediments in the lower part of the Danube River”: Anghel A.-M.\, Marinescu F.\, Gy. Deák\, Petrescu A.\, Ilie M.\, Ghiță G.\, Raischi M. – poster \n„Sediments as indicators of heavy metal contamination in the lower Danube River”: Ionescu P.\, Radu V.-M.\, Gy. Deák\, Diacu E. – poster \n„Assessment of heavy metals content in water and sediments from the lower Danube River using Ecoindex”: Radu V.-M.\, Ivanov A. A.\, Gy. Deák\, Diacu E.\, Ionescu P. – poster \n
URL:https://www.incdpm.ro/event/b-en-a-environmental-engineering-and-sustainable-development/
LOCATION:Alba Iulia\, Romania\, Alba Iulia\, Romania\, Romania
CATEGORIES:Conference
END:VEVENT
END:VCALENDAR