BEGIN:VCALENDAR
VERSION:2.0
PRODID:-//Institutul Naţional de Cercetare-Dezvoltare pentru Protecţia Mediului - ECPv4.9.8//NONSGML v1.0//EN
CALSCALE:GREGORIAN
METHOD:PUBLISH
X-WR-CALNAME:Institutul Naţional de Cercetare-Dezvoltare pentru Protecţia Mediului
X-ORIGINAL-URL:https://www.incdpm.ro
X-WR-CALDESC:Events for Institutul Naţional de Cercetare-Dezvoltare pentru Protecţia Mediului
BEGIN:VTIMEZONE
TZID:Europe/Bucharest
BEGIN:DAYLIGHT
TZOFFSETFROM:+0200
TZOFFSETTO:+0300
TZNAME:EEST
DTSTART:20140330T010000
END:DAYLIGHT
BEGIN:STANDARD
TZOFFSETFROM:+0300
TZOFFSETTO:+0200
TZNAME:EET
DTSTART:20141026T010000
END:STANDARD
END:VTIMEZONE
BEGIN:VEVENT
DTSTART;VALUE=DATE:20140702
DTEND;VALUE=DATE:20140705
DTSTAMP:20260422T143840
CREATED:20180828T065308Z
LAST-MODIFIED:20180828T065308Z
UID:2285-1404259200-1404518399@www.incdpm.ro
SUMMARY:Assessment of soil texture influence on nitrates leachability in unsaturated soils
DESCRIPTION:Proceedings of International Conference of Unsaturated soils: Research and Applications \nI. Popescu\, Gy. Deak\, I. Zaharia\, G. Dorobanțu\, G. Tănase \n
URL:https://www.incdpm.ro/event/assessment-of-soil-texture-influence-on-nitrates-leachability-in-unsaturated-soils/
LOCATION:Sydney\, Australia\, Sydney\, Australia
CATEGORIES:Conference
END:VEVENT
END:VCALENDAR