BEGIN:VCALENDAR
VERSION:2.0
PRODID:-//Institutul Naţional de Cercetare-Dezvoltare pentru Protecţia Mediului - ECPv4.9.8//NONSGML v1.0//EN
CALSCALE:GREGORIAN
METHOD:PUBLISH
X-WR-CALNAME:Institutul Naţional de Cercetare-Dezvoltare pentru Protecţia Mediului
X-ORIGINAL-URL:https://www.incdpm.ro
X-WR-CALDESC:Events for Institutul Naţional de Cercetare-Dezvoltare pentru Protecţia Mediului
BEGIN:VTIMEZONE
TZID:Europe/Bucharest
BEGIN:DAYLIGHT
TZOFFSETFROM:+0200
TZOFFSETTO:+0300
TZNAME:EEST
DTSTART:20140330T010000
END:DAYLIGHT
BEGIN:STANDARD
TZOFFSETFROM:+0300
TZOFFSETTO:+0200
TZNAME:EET
DTSTART:20141026T010000
END:STANDARD
END:VTIMEZONE
BEGIN:VEVENT
DTSTART;VALUE=DATE:20140514
DTEND;VALUE=DATE:20140516
DTSTAMP:20260422T160637
CREATED:20180828T065950Z
LAST-MODIFIED:20180828T065950Z
UID:2297-1400025600-1400198399@www.incdpm.ro
SUMMARY:AGRI-FOOD SCIENCES\, PROCESSES AND TECHNOLOGIES - AGRI-FOOD 2014
DESCRIPTION:„Soil quality improvement by extension of organic agriculture in Romania”: Mîţiu M.A.\, Trentea A.M.\, Bodea L. C.\, Mîţiu I. – poster\n„Endocrine disruptors and their effects on environment and life quality”: Ionescu P.\, Radu V.-M.\, Diacu E. – poster\n„Influence of agriculture on water quality of lower Danube River”: Radu V.-M.\, Ionescu P.\, Gy. Deák\, Diacu E. – poster \n
URL:https://www.incdpm.ro/event/agri-food-sciences-processes-and-technologies-agri-food-2014/
LOCATION:Sibiu\, România\, Sibiu\, Romania\, Romania
CATEGORIES:Conference
END:VEVENT
END:VCALENDAR