BEGIN:VCALENDAR
VERSION:2.0
PRODID:-//Institutul Naţional de Cercetare-Dezvoltare pentru Protecţia Mediului - ECPv4.9.8//NONSGML v1.0//EN
CALSCALE:GREGORIAN
METHOD:PUBLISH
X-WR-CALNAME:Institutul Naţional de Cercetare-Dezvoltare pentru Protecţia Mediului
X-ORIGINAL-URL:https://www.incdpm.ro
X-WR-CALDESC:Events for Institutul Naţional de Cercetare-Dezvoltare pentru Protecţia Mediului
BEGIN:VTIMEZONE
TZID:Europe/Bucharest
BEGIN:DAYLIGHT
TZOFFSETFROM:+0200
TZOFFSETTO:+0300
TZNAME:EEST
DTSTART:20120325T010000
END:DAYLIGHT
BEGIN:STANDARD
TZOFFSETFROM:+0300
TZOFFSETTO:+0200
TZNAME:EET
DTSTART:20121028T010000
END:STANDARD
END:VTIMEZONE
BEGIN:VEVENT
DTSTART;VALUE=DATE:20120403
DTEND;VALUE=DATE:20120404
DTSTAMP:20260422T131647
CREATED:20180828T070248Z
LAST-MODIFIED:20180828T070248Z
UID:2307-1333411200-1333497599@www.incdpm.ro
SUMMARY:A 7-a Ediţie a Colocviului Franco-Român de Chimie Aplicată - COFrRoCA
DESCRIPTION:„Bioaccumulation de metaux lourds de l’eau dans les plantes aquatiques”: Ionescu P.\, Radu V.-M. – poster\n„L’elimination des nutriments de l’eau avec macrophytes aquatiques”: Radu V.-M.\, Diacu E.\, Ionescu P.- poster \n
URL:https://www.incdpm.ro/event/a-7-a-editie-a-colocviului-franco-roman-de-chimie-aplicata-cofrroca/
LOCATION:Bacau\, Romania\, Bacau\, Romania
CATEGORIES:Symposium
END:VEVENT
END:VCALENDAR