BEGIN:VCALENDAR
VERSION:2.0
PRODID:-//Institutul Naţional de Cercetare-Dezvoltare pentru Protecţia Mediului - ECPv4.9.8//NONSGML v1.0//EN
CALSCALE:GREGORIAN
METHOD:PUBLISH
X-WR-CALNAME:Institutul Naţional de Cercetare-Dezvoltare pentru Protecţia Mediului
X-ORIGINAL-URL:https://www.incdpm.ro
X-WR-CALDESC:Events for Institutul Naţional de Cercetare-Dezvoltare pentru Protecţia Mediului
BEGIN:VTIMEZONE
TZID:Europe/Bucharest
BEGIN:DAYLIGHT
TZOFFSETFROM:+0200
TZOFFSETTO:+0300
TZNAME:EEST
DTSTART:20180325T010000
END:DAYLIGHT
BEGIN:STANDARD
TZOFFSETFROM:+0300
TZOFFSETTO:+0200
TZNAME:EET
DTSTART:20181028T010000
END:STANDARD
END:VTIMEZONE
BEGIN:VEVENT
DTSTART;TZID="Europe/Bucharest":20181029T080000
DTEND;TZID="Europe/Bucharest":20181031T180000
DTSTAMP:20260419T230840
CREATED:20181219T115151Z
LAST-MODIFIED:20181219T115151Z
UID:2941-1540800000-1541008800@www.incdpm.ro
SUMMARY:2018 International Conference on Renewable Energy and Environment Engeneering (REEE 2018)
DESCRIPTION:2018 International Conference on Renewable Energy and Environment Engeneering (REEE 2018) – George Poteraş\, György DEÁK\, Alina-Florina NICOLAE\, Andreea Ioana DĂESCU\, Iasmina Florina BURLACU\, Adrian Ștefan Zamfir \n
URL:https://www.incdpm.ro/event/2018-international-conference-on-renewable-energy-and-environment-engeneering-reee-2018/
LOCATION:Paris\, France\, Paris\, France
END:VEVENT
END:VCALENDAR