BEGIN:VCALENDAR
VERSION:2.0
PRODID:-//Institutul Naţional de Cercetare-Dezvoltare pentru Protecţia Mediului - ECPv4.9.8//NONSGML v1.0//EN
CALSCALE:GREGORIAN
METHOD:PUBLISH
X-WR-CALNAME:Institutul Naţional de Cercetare-Dezvoltare pentru Protecţia Mediului
X-ORIGINAL-URL:https://www.incdpm.ro
X-WR-CALDESC:Events for Institutul Naţional de Cercetare-Dezvoltare pentru Protecţia Mediului
BEGIN:VTIMEZONE
TZID:Europe/Bucharest
BEGIN:DAYLIGHT
TZOFFSETFROM:+0200
TZOFFSETTO:+0300
TZNAME:EEST
DTSTART:20130331T010000
END:DAYLIGHT
BEGIN:STANDARD
TZOFFSETFROM:+0300
TZOFFSETTO:+0200
TZNAME:EET
DTSTART:20131027T010000
END:STANDARD
END:VTIMEZONE
BEGIN:VEVENT
DTSTART;VALUE=DATE:20130904
DTEND;VALUE=DATE:20130908
DTSTAMP:20260422T193041
CREATED:20180828T070207Z
LAST-MODIFIED:20180828T070207Z
UID:2304-1378252800-1378598399@www.incdpm.ro
SUMMARY:18th Romanian International Conference on Chemistry and Chemical Engineering - RICCCE18
DESCRIPTION:„The GC-ECD method development for analysis of polychlorinated biphenyl compounds for environmental quality monitoring”: Ionescu P.\, Radu V.-M.\, Gy. Deák\, Diacu E.- oral\n„Characterization of Spatio-Temporal Evolution of Nutrient Pollution in Danube River on the Calarasi-Braila Section”: Radu V.-M.\, Ionescu P.\, Gy. Deák.\, Diacu E.- oral \n
URL:https://www.incdpm.ro/event/18th-romanian-international-conference-on-chemistry-and-chemical-engineering-riccce18/
LOCATION:Sinaia\, Romania\, Sinaia\, Romania
CATEGORIES:Conference
END:VEVENT
END:VCALENDAR