BEGIN:VCALENDAR
VERSION:2.0
PRODID:-//Institutul Naţional de Cercetare-Dezvoltare pentru Protecţia Mediului - ECPv4.9.8//NONSGML v1.0//EN
CALSCALE:GREGORIAN
METHOD:PUBLISH
X-WR-CALNAME:Institutul Naţional de Cercetare-Dezvoltare pentru Protecţia Mediului
X-ORIGINAL-URL:https://www.incdpm.ro
X-WR-CALDESC:Events for Institutul Naţional de Cercetare-Dezvoltare pentru Protecţia Mediului
BEGIN:VTIMEZONE
TZID:Europe/Bucharest
BEGIN:DAYLIGHT
TZOFFSETFROM:+0200
TZOFFSETTO:+0300
TZNAME:EEST
DTSTART:20160327T010000
END:DAYLIGHT
BEGIN:STANDARD
TZOFFSETFROM:+0300
TZOFFSETTO:+0200
TZNAME:EET
DTSTART:20161030T010000
END:STANDARD
END:VTIMEZONE
BEGIN:VEVENT
DTSTART;VALUE=DATE:20161102
DTEND;VALUE=DATE:20161106
DTSTAMP:20260422T085217
CREATED:20180828T063616Z
LAST-MODIFIED:20180828T063616Z
UID:2265-1478044800-1478390399@www.incdpm.ro
SUMMARY:16th International Multidisciplinary Scientific GeoConference (SGEM 2016)\, Hydrology and Water Resources\, Forest Ecosystems
DESCRIPTION:„Spatial distribution of water quality and eutrophication levels of Divici-Pojejena wetlands”: M. Ilie\, G. Ghita\, D. Gyorgy\, A.-M. Anghel\, M. Raischi \n
URL:https://www.incdpm.ro/event/16th-international-multidisciplinary-scientific-geoconference-sgem-2016-hydrology-and-water-resources-forest-ecosystems/
LOCATION:Vienna\, Austria\, Vienna\, Austira\, Austria
CATEGORIES:Conference
END:VEVENT
END:VCALENDAR